BEGIN:VCALENDAR
VERSION:2.0
PRODID:spatie/icalendar-generator
DESCRIPTION:Veranstaltungen von Schulwerkstatt
X-WR-CALDESC:Veranstaltungen von Schulwerkstatt
REFRESH-INTERVAL;VALUE=DURATION:PT1440M
X-PUBLISHED-TTL:PT1440M
BEGIN:VTIMEZONE
TZID:Etc/GMT-2
BEGIN:STANDARD
DTSTART:20250809T190000Z
TZOFFSETFROM:+0200
TZOFFSETTO:+0200
END:STANDARD
END:VTIMEZONE
BEGIN:VTIMEZONE
TZID:UTC
BEGIN:STANDARD
DTSTART:20250727T151336Z
TZOFFSETFROM:+0000
TZOFFSETTO:+0000
END:STANDARD
END:VTIMEZONE
BEGIN:VEVENT
UID:13-5
DTSTAMP:20260423T151336Z
SUMMARY:Infoabend
LOCATION:Freie Schule für lebendiges Lernen Walddorfer Straße 96  Altenri
 et  72657
ORGANIZER;CN=UJ:MAILTO:ulrike.juhas@gmx.de
DTSTART;TZID=Etc/GMT-2:20260506T190000
DTEND;TZID=Etc/GMT-2:20260506T210000
X-ALT-DESC;FMTTYPE=TEXT/HTML:Am Infoabend geben unsere Pädagog*innen und u
 nser Vorstand Ihnen einen Einblick in unsere Grundschule\, erzählen Typis
 ches aus dem Schulalltag\, zeigen Beispiele und beantworten Ihre Fragen zu
  unserer Schule\, unserem Konzept und wie bei uns gelernt wird. Eingeladen
  sind alle Interessierten mit Kindern\, die in den nächsten Jahren in die
  Schule kommen! Wir freuen uns auf&amp;hellip\;
CATEGORIES:Schulwerkstatt
URL;VALUE=URI:https://schulwerkstatt.info/mc-events/infoabend-3/
METHOD:PUBLISH
END:VEVENT
END:VCALENDAR