BEGIN:VCALENDAR
VERSION:2.0
PRODID:spatie/icalendar-generator
DESCRIPTION:Veranstaltungen von Schulwerkstatt
X-WR-CALDESC:Veranstaltungen von Schulwerkstatt
REFRESH-INTERVAL;VALUE=DURATION:PT1440M
X-PUBLISHED-TTL:PT1440M
BEGIN:VTIMEZONE
TZID:Etc/GMT-2
BEGIN:STANDARD
DTSTART:20260114T130000Z
TZOFFSETFROM:+0200
TZOFFSETTO:+0200
END:STANDARD
END:VTIMEZONE
BEGIN:VTIMEZONE
TZID:UTC
BEGIN:STANDARD
DTSTART:20250727T165959Z
TZOFFSETFROM:+0000
TZOFFSETTO:+0000
END:STANDARD
END:VTIMEZONE
BEGIN:VEVENT
UID:12-2
DTSTAMP:20260423T165959Z
SUMMARY:Tag der offenen Tür
LOCATION:Freie Schule für lebendiges Lernen Walddorfer Straße 96  Altenri
 et  72657
ORGANIZER;CN=UJ:MAILTO:ulrike.juhas@gmx.de
DTSTART;TZID=Etc/GMT-2:20261011T130000
DTEND;TZID=Etc/GMT-2:20261011T170000
X-ALT-DESC;FMTTYPE=TEXT/HTML:<p>Lernen Sie unsere Schule kennen! Erleben Si
 e\, wie Lernen mit Freude und ohne Leistungsdruck funktionieren kann. Komm
 en Sie mit auf eine Schulführung oder probieren Sie das Lernen mit den Mo
 ntessori-Materialien selbst aus. Dazu gibt es ein abwechslungsreiches Kind
 erprogramm und leckere Verpflegung.</p>\n
CATEGORIES:Schulwerkstatt
URL;VALUE=URI:https://schulwerkstatt.info/mc-events/tag-der-offenen-tuer-2/
METHOD:PUBLISH
END:VEVENT
END:VCALENDAR